BEGIN:VCALENDAR
VERSION:2.0
PRODID:-//hacksw/handcal//NONSGML v1.0//EN
BEGIN:VEVENT
SUMMARY:Boupere/Mon/Prouan FC  -  US Bazoges beaurepaire
UID:a2b5a4d6-83b9-483d-a342-ef629648e9ba
DTSTART:20260517T140000Z
DTEND:20260517T220000Z
LOCATION:Localisation   
CATEGORIES:Sportif
STATUS:
DESCRIPTION:<p><strong>RDV<br />
 Maillots:<br
 />
 Horaires:</strong></p>
URL;VALUE=URI:https://www.usbb.fr/evenements/2026/05/17/bouperemonprouan-fc-us-bazoges-beaurepaire-2444598
END:VEVENT
END:VCALENDAR
