BEGIN:VCALENDAR
VERSION:2.0
PRODID:-//hacksw/handcal//NONSGML v1.0//EN
BEGIN:VEVENT
SUMMARY:US Bazoges Beaurepaire  -  Bellevigny ES
UID:11200224-fce3-4743-b50a-40ec87a24882
DTSTART:20260419T130000Z
DTEND:20260419T220000Z
LOCATION:USBB stade de Bazoges  27 rue d'anjou  85  BAZOGES en PAILLERS
CATEGORIES:Sportif
STATUS:
DESCRIPTION:<p><span style="font-size:14px;"><strong>RDV Stade de
 Bazoges<br />
 Horaires: 13 h 45<br />
 Maillots:
 Jaunes </strong></span></p>
URL;VALUE=URI:https://www.usbb.fr/evenements/2026/04/19/us-bazoges-beaurepaire-bellevigny-es-2441677
END:VEVENT
END:VCALENDAR
