BEGIN:VCALENDAR
VERSION:2.0
PRODID:-//hacksw/handcal//NONSGML v1.0//EN
BEGIN:VEVENT
SUMMARY:US Bazoges Beaurepaire "Loisirs"  -  Montaigu VF
UID:b0affdac-ca36-4db2-8365-293bed92bb3c
DTSTART:20260417T190000Z
DTEND:20260417T220000Z
LOCATION:USBB stade de Bazoges  27 rue d'anjou  85  BAZOGES en PAILLERS
CATEGORIES:Sportif
STATUS:
URL;VALUE=URI:https://www.usbb.fr/evenements/2026/04/17/us-bazoges-beaurepaire-loisirs-montaigu-vf-2436689
END:VEVENT
END:VCALENDAR
