BEGIN:VCALENDAR
VERSION:2.0
PRODID:-//hacksw/handcal//NONSGML v1.0//EN
BEGIN:VEVENT
SUMMARY:US Bazoges beaurepaire "3"  -  Montaigu VF "4"
UID:3d278b6e-0519-4fe1-977d-a133e37ed739
DTSTART:20260412T103000Z
DTEND:20260412T220000Z
LOCATION:USBB stade de Bazoges  27 rue d'anjou  85  BAZOGES en PAILLERS
CATEGORIES:Sportif
STATUS:
DESCRIPTION:<p><strong>RDV stade de Bazoges<br />
 Horaires: 11 h
 11<br />
 Maillots: rouges</strong></p>
URL;VALUE=URI:https://www.usbb.fr/evenements/2026/04/12/us-bazoges-beaurepaire-3-montaigu-vf-4-2439986
END:VEVENT
END:VCALENDAR
