BEGIN:VCALENDAR
VERSION:2.0
PRODID:-//hacksw/handcal//NONSGML v1.0//EN
BEGIN:VEVENT
SUMMARY:Sigournais Germinois AS - US Bazoges Beaurepaire "2"
UID:229804da-a31d-4fca-8ebe-e9b0f6b64447
DTSTART:20260412T130000Z
DTEND:20260412T220000Z
LOCATION:Localisation   
CATEGORIES:Sportif
STATUS:
DESCRIPTION:<p><strong>RDV stade de Bazoges <br />
 Horaires: 13 h
 10<br />
 Maillots: Jaunes</strong></p>
URL;VALUE=URI:https://www.usbb.fr/evenements/2026/04/12/sigournais-germinois-as-us-bazoges-beaurepaire-2-2439987
END:VEVENT
END:VCALENDAR
