BEGIN:VCALENDAR
VERSION:2.0
PRODID:-//hacksw/handcal//NONSGML v1.0//EN
BEGIN:VEVENT
SUMMARY:US Bazoges Beaurepaire "U13-B" - RS Ardelelay"3"
UID:423978ca-7741-40da-b3c1-ff2ade336127
DTSTART:20260411T081500Z
DTEND:20260411T220000Z
LOCATION:USBB stade de Bazoges  27 rue d'anjou  85  BAZOGES en PAILLERS
CATEGORIES:Sportif
STATUS:
URL;VALUE=URI:https://www.usbb.fr/evenements/2026/04/11/us-bazoges-beaurepaire-u13-b-rs-ardelelay3-2439325
END:VEVENT
END:VCALENDAR
