BEGIN:VCALENDAR
VERSION:2.0
PRODID:-//hacksw/handcal//NONSGML v1.0//EN
BEGIN:VEVENT
SUMMARY:St Georges/guyonniere S2G - US Bazoges Beaurepaire "Loisirs"
UID:17cf02f4-92b3-46e3-a595-8d530ffd37e2
DTSTART:20260410T190000Z
DTEND:20260410T220000Z
LOCATION:Localisation   
CATEGORIES:Sportif
STATUS:
URL;VALUE=URI:https://www.usbb.fr/evenements/2026/04/10/st-georgesguyonniere-s2g-us-bazoges-beaurepaire-loisirs-2439324
END:VEVENT
END:VCALENDAR
