BEGIN:VCALENDAR
VERSION:2.0
PRODID:-//hacksw/handcal//NONSGML v1.0//EN
BEGIN:VEVENT
SUMMARY:Ferriere/Dompierre -  US Bazoges Beaurepaire
UID:3c107f0f-5c91-4b83-86d1-385a95b81345
DTSTART:20260405T130000Z
DTEND:20260405T220000Z
LOCATION:Localisation   
CATEGORIES:Sportif
STATUS:
DESCRIPTION:<p><strong>RDV cafe de Beaurepaire <br />
 Horaires: 13
 h<br />
 Maillots: Jaunes <br />
 Gardiens :
 Rose</strong></p>
 
 <p> </p>
URL;VALUE=URI:https://www.usbb.fr/evenements/2026/04/05/ferrieredompierre-us-bazoges-beaurepaire-2436696
END:VEVENT
END:VCALENDAR
