BEGIN:VCALENDAR
VERSION:2.0
PRODID:-//hacksw/handcal//NONSGML v1.0//EN
BEGIN:VEVENT
SUMMARY:US Bazoges beaurepaire "4"  -  Mesnard vendrennes
UID:d1aaf156-5686-4fe3-a43f-af0a20d97c64
DTSTART:20260403T191500Z
DTEND:20260403T220000Z
LOCATION:Groupement VSF/USBB/USG -US Bazoges Beaurepaire stade Municipal 85250 St Fulgent
CATEGORIES:Sportif
STATUS:
DESCRIPTION:<p><strong>RDV AU STADE DE ST FULGENT<br />
 Horaires: 20
 h<br />
 Maillots: Noirs</strong><br />
  </p>
URL;VALUE=URI:https://www.usbb.fr/evenements/2026/04/03/us-bazoges-beaurepaire-4-mesnard-vendrennes-2436694
END:VEVENT
END:VCALENDAR
